BEGIN:VCALENDAR
VERSION:2.0
PRODID:-//eventon.com NONSGML v1.0//EN
CALSCALE:GREGORIAN
METHOD:PUBLISH
BEGIN:VEVENT
UID:69e7455b48f4c
DTSTAMP:20260421T093731
DTSTART:20250813T080000Z
DTEND:20250814T110000Z
TZID:Europe/Berlin
LOCATION:
SUMMARY:Manga- und Comic-Kurs
DESCRIPTION: Es gibt viele tolle Maltechniken\,  aber ganz ehrlich\,  manche davon machen eine ziemliche Sauerei und sind Du bist ein Fan von Spider-Man\,  Batman oder magst Animes? Dann bist du in diesem Kurs genau richtig\,  denn hier kannst du deinen eigenen Charakter entwickeln und in einem finalen Bild umsetzen. Am ersten[..]\nhttps://atelier-events.de/events/manga-und-comic-kurs/
URL:https://atelier-events.de/events/manga-und-comic-kurs/
END:VEVENT
END:VCALENDAR